BEGIN:VCALENDAR
VERSION:2.0
CALSCALE:GREGORIAN
PRODID:-//Diputació de Barcelona//DibaCMS//EN
BEGIN:VEVENT
UID:9795
DTSTAMP:20260422T152851
DTSTART:20221202T180000
DTEND:20221202T000000
SUMMARY:Júpiter, un planeta de mil colors. Sessions d'Astronomia Infantil
LOCATION:
METHOD:PUBLISH
X-WR-CALNAME:info@parets.cat
X-WR-TIMEZONE:Europe/Madrid
DESCRIPTION:Organitza: Escola de la Natura
URI:https://www.parets.cat/actualitat/agenda/jupiter-un-planeta-de-mil-colors-sessions-dastronomia-infantil.html
CLASS:PUBLIC
END:VEVENT
END:VCALENDAR
