BEGIN:VCALENDAR
VERSION:2.0
CALSCALE:GREGORIAN
PRODID:-//Diputació de Barcelona//DibaCMS//EN
BEGIN:VEVENT
UID:9798
DTSTAMP:20260422T170634
DTSTART:20221202T190000
DTEND:20221202T000000
SUMMARY:Inauguració de l'exposició 10 anys amb la llum com a companya
LOCATION:
METHOD:PUBLISH
X-WR-CALNAME:info@parets.cat
X-WR-TIMEZONE:Europe/Madrid
DESCRIPTION:Organitza: Servei de Cultura
URI:https://www.parets.cat/actualitat/agenda/inauguracio-de-lexposicio-10-anys-amb-la-llum-com-a-companya.html
CLASS:PUBLIC
END:VEVENT
END:VCALENDAR
