BEGIN:VCALENDAR
VERSION:2.0
CALSCALE:GREGORIAN
PRODID:-//Diputació de Barcelona//DibaCMS//EN
BEGIN:VEVENT
UID:9800
DTSTAMP:20260422T183039
DTSTART:20221203T183000
DTEND:20221203T000000
SUMMARY:HELLWINTER FEST
LOCATION:
METHOD:PUBLISH
X-WR-CALNAME:info@parets.cat
X-WR-TIMEZONE:Europe/Madrid
DESCRIPTION:Organitza: Casal de Cultura de Can Butjosa
URI:https://www.parets.cat/actualitat/agenda/hellwinter-fest.html
CLASS:PUBLIC
END:VEVENT
END:VCALENDAR
