BEGIN:VCALENDAR
VERSION:2.0
CALSCALE:GREGORIAN
PRODID:-//Diputació de Barcelona//DibaCMS//EN
BEGIN:VEVENT
UID:9801
DTSTAMP:20260422T215804
DTSTART:20221203T110000
DTEND:20221203T200000
SUMMARY:Fira de Nadal
LOCATION:
METHOD:PUBLISH
X-WR-CALNAME:info@parets.cat
X-WR-TIMEZONE:Europe/Madrid
DESCRIPTION:Organitza: Departament de comerç
URI:https://www.parets.cat/actualitat/agenda/fira-de-nadal.html
CLASS:PUBLIC
END:VEVENT
END:VCALENDAR
