BEGIN:VCALENDAR
VERSION:2.0
CALSCALE:GREGORIAN
PRODID:-//Diputació de Barcelona//DibaCMS//EN
BEGIN:VEVENT
UID:9803
DTSTAMP:20260422T155348
DTSTART:20221204T110000
DTEND:20221204T140000
SUMMARY:Fira de Nadal
LOCATION:
METHOD:PUBLISH
X-WR-CALNAME:info@parets.cat
X-WR-TIMEZONE:Europe/Madrid
DESCRIPTION:Organitza: Departament de comerç
URI:https://www.parets.cat/actualitat/agenda/9803-fira-de-nadal.html
CLASS:PUBLIC
END:VEVENT
END:VCALENDAR
