BEGIN:VCALENDAR
VERSION:2.0
CALSCALE:GREGORIAN
PRODID:-//Diputació de Barcelona//DibaCMS//EN
BEGIN:VEVENT
UID:9805
DTSTAMP:20260422T221155
DTSTART:20221208T183000
DTEND:20221208T200000
SUMMARY:Club de lectura. "Nos vemos allá arriba!"
LOCATION:
METHOD:PUBLISH
X-WR-CALNAME:info@parets.cat
X-WR-TIMEZONE:Europe/Madrid
DESCRIPTION:Organitza: Biblioteca Can Rajoler
URI:https://www.parets.cat/actualitat/agenda/club-de-lectura-nos-vemos-alla-arriba.html
CLASS:PUBLIC
END:VEVENT
END:VCALENDAR
