BEGIN:VCALENDAR
VERSION:2.0
CALSCALE:GREGORIAN
PRODID:-//Diputació de Barcelona//DibaCMS//EN
BEGIN:VEVENT
UID:9806
DTSTAMP:20260422T165526
DTSTART:20221209T170000
DTEND:20221209T000000
SUMMARY:Tarda de DJS
LOCATION:
METHOD:PUBLISH
X-WR-CALNAME:info@parets.cat
X-WR-TIMEZONE:Europe/Madrid
DESCRIPTION:Organitza: Casal de Joves Cal Jardiner
URI:https://www.parets.cat/actualitat/agenda/tarda-de-djs.html
CLASS:PUBLIC
END:VEVENT
END:VCALENDAR
