BEGIN:VCALENDAR
VERSION:2.0
CALSCALE:GREGORIAN
PRODID:-//Diputació de Barcelona//DibaCMS//EN
BEGIN:VEVENT
UID:9807
DTSTAMP:20260422T170018
DTSTART:20221211T180000
DTEND:20221211T000000
SUMMARY:Elti, un superheroi ecològic
LOCATION:
METHOD:PUBLISH
X-WR-CALNAME:info@parets.cat
X-WR-TIMEZONE:Europe/Madrid
DESCRIPTION:Organitza: Rialles Parets
URI:https://www.parets.cat/actualitat/agenda/elti-un-superheroi-ecologic.html
CLASS:PUBLIC
END:VEVENT
END:VCALENDAR
