BEGIN:VCALENDAR
VERSION:2.0
CALSCALE:GREGORIAN
PRODID:-//Diputació de Barcelona//DibaCMS//EN
BEGIN:VEVENT
UID:9808
DTSTAMP:20260422T170846
DTSTART:20221211T100000
DTEND:20221211T000000
SUMMARY:Disco Silent en Família
LOCATION:
METHOD:PUBLISH
X-WR-CALNAME:info@parets.cat
X-WR-TIMEZONE:Europe/Madrid
DESCRIPTION:Organitza: AMACAT
URI:https://www.parets.cat/actualitat/agenda/disco-silent-en-familia.html
CLASS:PUBLIC
END:VEVENT
END:VCALENDAR
