BEGIN:VCALENDAR
VERSION:2.0
CALSCALE:GREGORIAN
PRODID:-//Diputació de Barcelona//DibaCMS//EN
BEGIN:VEVENT
UID:9810
DTSTAMP:20260422T203258
DTSTART:20221213T173000
DTEND:20221213T183000
SUMMARY:Hora del conte per infants: De mar a mar
LOCATION:
METHOD:PUBLISH
X-WR-CALNAME:info@parets.cat
X-WR-TIMEZONE:Europe/Madrid
DESCRIPTION:Organitza: Biblioteca Can Rajoler
URI:https://www.parets.cat/actualitat/agenda/hora-del-conte-per-infants-de-mar-a-mar.html
CLASS:PUBLIC
END:VEVENT
END:VCALENDAR
