BEGIN:VCALENDAR
VERSION:2.0
CALSCALE:GREGORIAN
PRODID:-//Diputació de Barcelona//DibaCMS//EN
BEGIN:VEVENT
UID:9812
DTSTAMP:20260422T174621
DTSTART:20221214T183000
DTEND:20221214T200000
SUMMARY:Descobreix l'art. A càrrec d'Iris Paris
LOCATION:
METHOD:PUBLISH
X-WR-CALNAME:info@parets.cat
X-WR-TIMEZONE:Europe/Madrid
DESCRIPTION:Organitza: Biblioteca Can Rajoler
URI:https://www.parets.cat/actualitat/agenda/9812-descobreix-lart-a-carrec-diris-paris.html
CLASS:PUBLIC
END:VEVENT
END:VCALENDAR
