BEGIN:VCALENDAR
VERSION:2.0
CALSCALE:GREGORIAN
PRODID:-//Diputació de Barcelona//DibaCMS//EN
BEGIN:VEVENT
UID:9813
DTSTAMP:20260422T184143
DTSTART:20221215T173000
DTEND:20221215T000000
SUMMARY:Hora del Conte de Nadal
LOCATION:
METHOD:PUBLISH
X-WR-CALNAME:info@parets.cat
X-WR-TIMEZONE:Europe/Madrid
DESCRIPTION:Organitza: Biblioteca Can Butjosa
URI:https://www.parets.cat/actualitat/agenda/hora-del-conte-de-nadal.html
CLASS:PUBLIC
END:VEVENT
END:VCALENDAR
