BEGIN:VCALENDAR
VERSION:2.0
CALSCALE:GREGORIAN
PRODID:-//Diputació de Barcelona//DibaCMS//EN
BEGIN:VEVENT
UID:9816
DTSTAMP:20260422T215703
DTSTART:20221216T200000
DTEND:20221216T230000
SUMMARY:La ruta de les salamandres
LOCATION:
METHOD:PUBLISH
X-WR-CALNAME:info@parets.cat
X-WR-TIMEZONE:Europe/Madrid
DESCRIPTION:Organitza: Escola de la Natura
URI:https://www.parets.cat/actualitat/agenda/la-ruta-de-les-salamandres.html
CLASS:PUBLIC
END:VEVENT
END:VCALENDAR
