BEGIN:VCALENDAR
VERSION:2.0
CALSCALE:GREGORIAN
PRODID:-//Diputació de Barcelona//DibaCMS//EN
BEGIN:VEVENT
UID:9819
DTSTAMP:20260422T170918
DTSTART:20221217T223000
DTEND:20221217T000000
SUMMARY:¿Sí o no? de Bruno Oro
LOCATION:
METHOD:PUBLISH
X-WR-CALNAME:info@parets.cat
X-WR-TIMEZONE:Europe/Madrid
DESCRIPTION:Organitza: Servei de Cultura
URI:https://www.parets.cat/actualitat/agenda/si-o-no-de-bruno-oro.html
CLASS:PUBLIC
END:VEVENT
END:VCALENDAR
