BEGIN:VCALENDAR
VERSION:2.0
CALSCALE:GREGORIAN
PRODID:-//Diputació de Barcelona//DibaCMS//EN
BEGIN:VEVENT
UID:9822
DTSTAMP:20260422T220300
DTSTART:20221217T170000
DTEND:20221217T000000
SUMMARY:Gala de Nadal
LOCATION:
METHOD:PUBLISH
X-WR-CALNAME:info@parets.cat
X-WR-TIMEZONE:Europe/Madrid
DESCRIPTION:Organitza: Kdansa
URI:https://www.parets.cat/actualitat/agenda/gala-de-nadal.html
CLASS:PUBLIC
END:VEVENT
END:VCALENDAR
