BEGIN:VCALENDAR
VERSION:2.0
CALSCALE:GREGORIAN
PRODID:-//Diputació de Barcelona//DibaCMS//EN
BEGIN:VEVENT
UID:9823
DTSTAMP:20260422T183125
DTSTART:20221218T100000
DTEND:20221218T000000
SUMMARY:CORRE PARETS 2022 si tu corres, jo jugo
LOCATION:
METHOD:PUBLISH
X-WR-CALNAME:info@parets.cat
X-WR-TIMEZONE:Europe/Madrid
DESCRIPTION:Organitza: Servei d'Esports
URI:https://www.parets.cat/actualitat/agenda/corre-parets-2022-si-tu-corres-jo-jugo.html
CLASS:PUBLIC
END:VEVENT
END:VCALENDAR
