BEGIN:VCALENDAR
VERSION:2.0
CALSCALE:GREGORIAN
PRODID:-//Diputació de Barcelona//DibaCMS//EN
BEGIN:VEVENT
UID:9824
DTSTAMP:20260422T204216
DTSTART:20221219T073000
DTEND:20221219T000000
SUMMARY:Sortida cultural a Tarragona per la Gent Gran
LOCATION:
METHOD:PUBLISH
X-WR-CALNAME:info@parets.cat
X-WR-TIMEZONE:Europe/Madrid
DESCRIPTION:Organitza: Ajuntament de Parets del Vallès
URI:https://www.parets.cat/actualitat/agenda/sortida-cultural-a-tarragona-per-la-gent-gran.html
CLASS:PUBLIC
END:VEVENT
END:VCALENDAR
