BEGIN:VCALENDAR
VERSION:2.0
CALSCALE:GREGORIAN
PRODID:-//Diputació de Barcelona//DibaCMS//EN
BEGIN:VEVENT
UID:9828
DTSTAMP:20260422T140126
DTSTART:20221223T183000
DTEND:20221223T000000
SUMMARY:Presentació del llibre "Des de Dins de mi" de Lluís M. Xirinacs
LOCATION:
METHOD:PUBLISH
X-WR-CALNAME:info@parets.cat
X-WR-TIMEZONE:Europe/Madrid
DESCRIPTION:Organitza: Biblioteca Can Rajoler
URI:https://www.parets.cat/actualitat/agenda/9828-presentacio-del-llibre-des-de-dins-de-mi-de-lluis-m-xirinacs.html
CLASS:PUBLIC
END:VEVENT
END:VCALENDAR
