BEGIN:VCALENDAR
VERSION:2.0
CALSCALE:GREGORIAN
PRODID:-//Diputació de Barcelona//DibaCMS//EN
BEGIN:VEVENT
UID:9829
DTSTAMP:20260423T000750
DTSTART:20221223T103000
DTEND:20230105T193000
SUMMARY:Pista de gel
LOCATION:
METHOD:PUBLISH
X-WR-CALNAME:info@parets.cat
X-WR-TIMEZONE:Europe/Madrid
DESCRIPTION:Organitza: Servei de Comerç
URI:https://www.parets.cat/actualitat/agenda/pista-de-gel.html
CLASS:PUBLIC
END:VEVENT
END:VCALENDAR
