BEGIN:VCALENDAR
VERSION:2.0
CALSCALE:GREGORIAN
PRODID:-//Diputació de Barcelona//DibaCMS//EN
BEGIN:VEVENT
UID:9830
DTSTAMP:20260422T135440
DTSTART:20221226T190000
DTEND:20221226T000000
SUMMARY:La llum del fanalet
LOCATION:
METHOD:PUBLISH
X-WR-CALNAME:info@parets.cat
X-WR-TIMEZONE:Europe/Madrid
DESCRIPTION:Organitza: Rialles Parets
URI:https://www.parets.cat/actualitat/agenda/9830-la-llum-del-fanalet.html
CLASS:PUBLIC
END:VEVENT
END:VCALENDAR
