BEGIN:VCALENDAR
VERSION:2.0
CALSCALE:GREGORIAN
PRODID:-//Diputació de Barcelona//DibaCMS//EN
BEGIN:VEVENT
UID:9832
DTSTAMP:20260422T174536
DTSTART:20221226T180000
DTEND:20221226T000000
SUMMARY:La llum del fanalet, espectacle familiar
LOCATION:
METHOD:PUBLISH
X-WR-CALNAME:info@parets.cat
X-WR-TIMEZONE:Europe/Madrid
DESCRIPTION:Organitza: Rialles Parets
URI:https://www.parets.cat/actualitat/agenda/la-llum-del-fanalet-espectacle-familiar.html
CLASS:PUBLIC
END:VEVENT
END:VCALENDAR
