BEGIN:VCALENDAR
VERSION:2.0
CALSCALE:GREGORIAN
PRODID:-//Diputació de Barcelona//DibaCMS//EN
BEGIN:VEVENT
UID:9833
DTSTAMP:20260422T170139
DTSTART:20221227T170000
DTEND:20221227T000000
SUMMARY:Festa de Nadal per a la gent gran
LOCATION:
METHOD:PUBLISH
X-WR-CALNAME:info@parets.cat
X-WR-TIMEZONE:Europe/Madrid
DESCRIPTION:Organitza: Casals municipals de gent gran
URI:https://www.parets.cat/actualitat/agenda/festa-de-nadal-per-a-la-gent-gran.html
CLASS:PUBLIC
END:VEVENT
END:VCALENDAR
