BEGIN:VCALENDAR
VERSION:2.0
CALSCALE:GREGORIAN
PRODID:-//Diputació de Barcelona//DibaCMS//EN
BEGIN:VEVENT
UID:9835
DTSTAMP:20260422T154108
DTSTART:20221231T010000
DTEND:20230101T000000
SUMMARY:Gran revetlla de Cap d'Any
LOCATION:
METHOD:PUBLISH
X-WR-CALNAME:info@parets.cat
X-WR-TIMEZONE:Europe/Madrid
DESCRIPTION:Organitza: Ajuntament de Parets i Comissió de festes
URI:https://www.parets.cat/actualitat/agenda/gran-revetlla-de-cap-dany.html
CLASS:PUBLIC
END:VEVENT
END:VCALENDAR
