BEGIN:VCALENDAR
VERSION:2.0
CALSCALE:GREGORIAN
PRODID:-//Diputació de Barcelona//DibaCMS//EN
BEGIN:VEVENT
UID:9926
DTSTAMP:20260422T190944
DTSTART:20210504T180000
DTEND:20210504T183000
SUMMARY:Hora del conte en anglès: Three Billy goats gruff, a càrrec de Cambridge School.
LOCATION:
METHOD:PUBLISH
X-WR-CALNAME:info@parets.cat
X-WR-TIMEZONE:Europe/Madrid
DESCRIPTION:Organitza: Biblioteca Can Rajoler
URI:https://www.parets.cat/actualitat/agenda/hora-del-conte-en-angles-three-billy-goats-gruff-a-carrec-de-cambridge-school.html
CLASS:PUBLIC
END:VEVENT
END:VCALENDAR
